BEGIN:VCALENDAR
VERSION:2.0
PRODID:-//ATTACh - ECPv6.15.20//NONSGML v1.0//EN
CALSCALE:GREGORIAN
METHOD:PUBLISH
X-ORIGINAL-URL:https://attach.org
X-WR-CALDESC:Events for ATTACh
REFRESH-INTERVAL;VALUE=DURATION:PT1H
X-Robots-Tag:noindex
X-PUBLISHED-TTL:PT1H
BEGIN:VTIMEZONE
TZID:America/Chicago
BEGIN:DAYLIGHT
TZOFFSETFROM:-0600
TZOFFSETTO:-0500
TZNAME:CDT
DTSTART:20230312T080000
END:DAYLIGHT
BEGIN:STANDARD
TZOFFSETFROM:-0500
TZOFFSETTO:-0600
TZNAME:CST
DTSTART:20231105T070000
END:STANDARD
BEGIN:DAYLIGHT
TZOFFSETFROM:-0600
TZOFFSETTO:-0500
TZNAME:CDT
DTSTART:20240310T080000
END:DAYLIGHT
BEGIN:STANDARD
TZOFFSETFROM:-0500
TZOFFSETTO:-0600
TZNAME:CST
DTSTART:20241103T070000
END:STANDARD
BEGIN:DAYLIGHT
TZOFFSETFROM:-0600
TZOFFSETTO:-0500
TZNAME:CDT
DTSTART:20250309T080000
END:DAYLIGHT
BEGIN:STANDARD
TZOFFSETFROM:-0500
TZOFFSETTO:-0600
TZNAME:CST
DTSTART:20251102T070000
END:STANDARD
END:VTIMEZONE
BEGIN:VEVENT
DTSTART;TZID=America/Chicago:20240307T060000
DTEND;TZID=America/Chicago:20240307T080000
DTSTAMP:20260421T133831
CREATED:20240301T223135Z
LAST-MODIFIED:20240301T223135Z
UID:10000010-1709791200-1709798400@attach.org
SUMMARY:Level 3: Occupational Therapy Attachment and Trauma in Practice
DESCRIPTION:Join us in small group workshops on theory and the deeper impact of trauma and attachment in children. Level 1 and Level 2 of the OT Training in Attachment and Trauma Series are prerequisites to this course.
URL:https://attach.org/event/level-3-occupational-therapy-attachment-and-trauma-in-practice/
CATEGORIES:Virtual Training
END:VEVENT
BEGIN:VEVENT
DTSTART;TZID=America/Chicago:20240319T103000
DTEND;TZID=America/Chicago:20240319T120000
DTSTAMP:20260421T133831
CREATED:20240301T225222Z
LAST-MODIFIED:20240301T225222Z
UID:10000006-1710844200-1710849600@attach.org
SUMMARY:COP
DESCRIPTION:
URL:https://attach.org/event/cop/
CATEGORIES:Virtual Training
END:VEVENT
BEGIN:VEVENT
DTSTART;TZID=America/Chicago:20240326T100000
DTEND;TZID=America/Chicago:20240326T110000
DTSTAMP:20260421T133831
CREATED:20240301T225440Z
LAST-MODIFIED:20240301T225440Z
UID:10000007-1711447200-1711450800@attach.org
SUMMARY:Optum Learning Circle
DESCRIPTION:
URL:https://attach.org/event/optum-learning-circle/
CATEGORIES:Virtual Training
END:VEVENT
BEGIN:VEVENT
DTSTART;TZID=America/Chicago:20240327T110000
DTEND;TZID=America/Chicago:20240327T120000
DTSTAMP:20260421T133831
CREATED:20231205T210325Z
LAST-MODIFIED:20240228T190535Z
UID:10000020-1711537200-1711540800@attach.org
SUMMARY:MAR 27: Parent & Caregiver Support - Diversity & Lived Experience with Gaelin Elmore
DESCRIPTION:TOPIC: Diversity & Lived Experience \nFACILITATOR: Gaelin Elmore \nJoin Gaelin Elmore\, former youth in foster care and current ATTACh Board Member\, in a meaningful discussion about diversity and the lived experiences. For parents and caregivers in diverse family structures\, Gaelin’s unique perspective adds a valuable layer of insight to our conversations. Connect with fellow parents and caregivers to share experiences and gain a deeper understanding of how diverse backgrounds shape parenting journeys. \nBecome a member of ATTACh to attend! \n* Parent & Caregiver members only
URL:https://attach.org/event/trauma-and-attachment-parent-support-group-wednesdays-2024-03-27/
LOCATION:Zoom
CATEGORIES:Parent Group Meeting
END:VEVENT
BEGIN:VEVENT
DTSTART;TZID=America/Chicago:20240328T060000
DTEND;TZID=America/Chicago:20240328T080000
DTSTAMP:20260421T133831
CREATED:20240301T224943Z
LAST-MODIFIED:20240301T224943Z
UID:10000005-1711605600-1711612800@attach.org
SUMMARY:Level 3: Occupational Therapy Attachment and Trauma in Practice
DESCRIPTION:Join us in small group workshops on theory and the deeper impact of trauma and attachment in children. Level 1 and Level 2 of the OT Training in Attachment and Trauma Series are prerequisites to this course.
URL:https://attach.org/event/level-3-occupational-therapy-attachment-and-trauma-in-practice-2/
CATEGORIES:Virtual Training
END:VEVENT
END:VCALENDAR