BEGIN:VCALENDAR
VERSION:2.0
PRODID:-//ATTACh - ECPv6.15.20//NONSGML v1.0//EN
CALSCALE:GREGORIAN
METHOD:PUBLISH
X-WR-CALNAME:ATTACh
X-ORIGINAL-URL:https://attach.org
X-WR-CALDESC:Events for ATTACh
REFRESH-INTERVAL;VALUE=DURATION:PT1H
X-Robots-Tag:noindex
X-PUBLISHED-TTL:PT1H
BEGIN:VTIMEZONE
TZID:America/Chicago
BEGIN:DAYLIGHT
TZOFFSETFROM:-0600
TZOFFSETTO:-0500
TZNAME:CDT
DTSTART:20230312T080000
END:DAYLIGHT
BEGIN:STANDARD
TZOFFSETFROM:-0500
TZOFFSETTO:-0600
TZNAME:CST
DTSTART:20231105T070000
END:STANDARD
BEGIN:DAYLIGHT
TZOFFSETFROM:-0600
TZOFFSETTO:-0500
TZNAME:CDT
DTSTART:20240310T080000
END:DAYLIGHT
BEGIN:STANDARD
TZOFFSETFROM:-0500
TZOFFSETTO:-0600
TZNAME:CST
DTSTART:20241103T070000
END:STANDARD
BEGIN:DAYLIGHT
TZOFFSETFROM:-0600
TZOFFSETTO:-0500
TZNAME:CDT
DTSTART:20250309T080000
END:DAYLIGHT
BEGIN:STANDARD
TZOFFSETFROM:-0500
TZOFFSETTO:-0600
TZNAME:CST
DTSTART:20251102T070000
END:STANDARD
END:VTIMEZONE
BEGIN:VEVENT
DTSTART;TZID=America/Chicago:20240504T090000
DTEND;TZID=America/Chicago:20240504T163000
DTSTAMP:20260421T102708
CREATED:20240328T160939Z
LAST-MODIFIED:20240328T161034Z
UID:10000064-1714813200-1714840200@attach.org
SUMMARY:Hope for Healing - Live In Person
DESCRIPTION:Facilitated by Sue Badeau\, this is a live in person edition of ATTACh’s Hope for Healing. This training is all about attachment\, which means understanding how we connect with others. It’s based on science and can help if you’re having trouble with children’s behaviors. The ATTACh team\, with their funny and kind approach\, will teach us how to bring hope and healing to the kids we care for. In the training\, we’ll learn about how adults and kids form bonds\, how our brains react to stress\, what behaviors might show there’s a problem with attachment\, and ways to parent or teach that focus on building strong connections. \nLocation: Four Square Early Learning Center located at 17750 Glasgow Ave\, Lakeville\, MN \nTime: 9:00am – 4:30pm (US Central Time). Food and Beverages Provided \n*FREE for parent or caregiver in 7-County Metro Area Minnesota (Anoka\, Carver\, Dakota\, Hennepin\, Ramsey\, Scott\, Washington). \nMORE INFORMATION AND REGISTRATION
URL:https://attach.org/event/hope-for-healing-live-in-person/
LOCATION:Foursquare Early Learning Center\, 17750 Glasgow Ave\, Lakeville\, 55044\, United States
CATEGORIES:Live
END:VEVENT
BEGIN:VEVENT
DTSTART;TZID=America/Chicago:20240516T120000
DTEND;TZID=America/Chicago:20240516T130000
DTSTAMP:20260421T102708
CREATED:20240304T150445Z
LAST-MODIFIED:20240304T150445Z
UID:10000002-1715860800-1715864400@attach.org
SUMMARY:Optum Learning Circle
DESCRIPTION:
URL:https://attach.org/event/optum-learning-circle-3/
CATEGORIES:Virtual Training
END:VEVENT
BEGIN:VEVENT
DTSTART;TZID=America/Chicago:20240521T103000
DTEND;TZID=America/Chicago:20240521T120000
DTSTAMP:20260421T102708
CREATED:20240304T145931Z
LAST-MODIFIED:20240502T174108Z
UID:10000001-1716287400-1716292800@attach.org
SUMMARY:Community Of Practice
DESCRIPTION:This meeting is for anyone who has completed TDTAC training. We provide a safe space to share and reflect on the course and cases.
URL:https://attach.org/event/cop-2/
CATEGORIES:Virtual Training
END:VEVENT
BEGIN:VEVENT
DTSTART;TZID=America/Chicago:20240529T100000
DTEND;TZID=America/Chicago:20240529T120000
DTSTAMP:20260421T102708
CREATED:20231205T210325Z
LAST-MODIFIED:20240328T151806Z
UID:10000021-1716976800-1716984000@attach.org
SUMMARY:MAY 29: Special Training - Hope for Healing Part 2
DESCRIPTION:TOPIC: Hope for Healing – Part 2 \nFACILITATOR: Sue Badeau \nBecome a member of ATTACh to attend for Free! \n  \n 
URL:https://attach.org/event/trauma-and-attachment-parent-support-group-wednesdays-2024-05-22/
LOCATION:Zoom
CATEGORIES:Parent Group Meeting
END:VEVENT
END:VCALENDAR