BEGIN:VCALENDAR
VERSION:2.0
PRODID:-//ATTACh - ECPv6.15.20//NONSGML v1.0//EN
CALSCALE:GREGORIAN
METHOD:PUBLISH
X-ORIGINAL-URL:https://attach.org
X-WR-CALDESC:Events for ATTACh
REFRESH-INTERVAL;VALUE=DURATION:PT1H
X-Robots-Tag:noindex
X-PUBLISHED-TTL:PT1H
BEGIN:VTIMEZONE
TZID:America/Chicago
BEGIN:DAYLIGHT
TZOFFSETFROM:-0600
TZOFFSETTO:-0500
TZNAME:CDT
DTSTART:20230312T080000
END:DAYLIGHT
BEGIN:STANDARD
TZOFFSETFROM:-0500
TZOFFSETTO:-0600
TZNAME:CST
DTSTART:20231105T070000
END:STANDARD
BEGIN:DAYLIGHT
TZOFFSETFROM:-0600
TZOFFSETTO:-0500
TZNAME:CDT
DTSTART:20240310T080000
END:DAYLIGHT
BEGIN:STANDARD
TZOFFSETFROM:-0500
TZOFFSETTO:-0600
TZNAME:CST
DTSTART:20241103T070000
END:STANDARD
BEGIN:DAYLIGHT
TZOFFSETFROM:-0600
TZOFFSETTO:-0500
TZNAME:CDT
DTSTART:20250309T080000
END:DAYLIGHT
BEGIN:STANDARD
TZOFFSETFROM:-0500
TZOFFSETTO:-0600
TZNAME:CST
DTSTART:20251102T070000
END:STANDARD
END:VTIMEZONE
BEGIN:VEVENT
DTSTART;TZID=America/Chicago:20240812T193000
DTEND;TZID=America/Chicago:20240812T203000
DTSTAMP:20260423T032757
CREATED:20231205T203715Z
LAST-MODIFIED:20240610T151545Z
UID:10000051-1723491000-1723494600@attach.org
SUMMARY:AUG 12: Parent & Caregiver Support with Sue Badeau - Topic: "Back to School We Go" Preparing for a Successful School Year
DESCRIPTION:TOPIC: “Back to School We Go” Preparing for a Successful School Year \nFACILITATOR: Sue Badeau \nBecome a member of ATTACh to attend! \n* Parent & Caregiver members only
URL:https://attach.org/event/aug-12-book-club-tbd/
LOCATION:Zoom
CATEGORIES:Book Club,Parent Group Meeting,Virtual Training
END:VEVENT
BEGIN:VEVENT
DTSTART;TZID=America/Chicago:20240823T090000
DTEND;TZID=America/Chicago:20240823T100000
DTSTAMP:20260423T032757
CREATED:20240725T160810Z
LAST-MODIFIED:20240725T160810Z
UID:10000067-1724403600-1724407200@attach.org
SUMMARY:August Conference Committee Meeting
DESCRIPTION:
URL:https://attach.org/event/august-conference-committee-meeting/
CATEGORIES:Conferences
END:VEVENT
BEGIN:VEVENT
DTSTART;TZID=America/Chicago:20240828T110000
DTEND;TZID=America/Chicago:20240828T120000
DTSTAMP:20260423T032757
CREATED:20231205T210325Z
LAST-MODIFIED:20240603T152739Z
UID:10000054-1724842800-1724846400@attach.org
SUMMARY:AUG 28: "Real Talk: A Safe Space for Parents and Caregivers to Gather" (Open Share and Support)
DESCRIPTION:TOPIC: “Real Talk: A Safe Space for Parents and Caregivers to Gather” (Open Share and Support) \nFACILITATOR: Sue Badeau \nMeet other caregivers and new friends\, feel replenished and nourish your parenting knowledge by connecting with a group. \nBecome a member of ATTACh to attend! \n* Parent & Caregiver members only
URL:https://attach.org/event/trauma-and-attachment-parent-support-group-wednesdays-2024-08-28/
LOCATION:Zoom
CATEGORIES:Parent Group Meeting
END:VEVENT
END:VCALENDAR